Workbook

Sheet Cover
B4: Company: | C4: Maxis
B5: Ticker (BBG): | C5: ISAT
B7: Rating | C7: Buy
B8: Target price | C8: MYR 5.1
B10: Lead analyst | C10: Chris Hoare
B11: email | C11: chris@newstreetresearch.com
B12: Phone | C12: +44 207375 9130
B14: Analyst | C14: David Lopes
B15: email | C15: david@newstreetresearch.com
B16: Phone | C16: +44 207375 9147
B18: Associate | C18: Jake Ng
B19: email | C19: jake@newstreetresearch.com
B20: Phone | C20: +65 6016 5451

Sheet Colour code
B2: Font colour code
B4: Blue font | C4: Company reported/Hardcoded
B5: Blue font | C5: Assumption
B6: Black | C6: Formula
B7: Green | C7: Link from another tab
B8: Dark Red | C8: Data providers
B9: Red | C9: Numbers no longer reported/restated
B11: Tabs colour code
C13: Summary tabs
C14: Tabs linked to other spreadsheets
C15: Input tabs
C16: Divisional tabs
C17: Working tabs
C18: TBC

Sheet DCF
B1: Valuation
B2: RM m | M2: Forecast
C3: 2016 | D3: =C3+1 -> 2017 | E3: =D3+1 -> 2018 | F3: =E3+1 -> 2019 | G3: =F3+1 -> 2020 | H3: =G3+1 -> 2021 | I3: =H3+1 -> 2022 | J3: =I3+1 -> 2023 | K3: =J3+1 -> 2024 | ... S3: =R3+1 -> 2032
B5: EBIT | C5: ='Income Statement'!AU471 -> 3109 | D5: ='Income Statement'!AZ471 -> 2775 | E5: ='Income Statement'!BE471 -> 2685 | F5: ='Income Statement'!BJ471 -> 2512 | G5: ='Income Statement'!BO471 -> 2284 | H5: ='Income Statement'!BT471 -> 2082 | I5: ='Income Statement'!BY471 -> 2209 | J5: ='Income Statement'!CD471 -> 1890 | K5: ='Income Statement'!CI471 -> 2324 | L5: ='Income Statement'!CN471 -> 2521 | M5: ='Income Statement'!CQ471 -> 2808.9733 | N5: ='Income Statement'!CR471 -> 2936.5606 | O5: ='Income Statement'!CS471 -> 3056.385 | P5: ='Income Statement'!CT471 -> 3189.1619 | Q5: ='Income Statement'!CU471 -> 3336.7783 | R5: ='Income Statement'!CV471 -> 3476.2521 | S5: ='Income Statement'!CW471 -> 3647.3441
B6: Tax Rate | C6: 0.25 | D6: =C6 -> 0.25 | E6: =D6 -> 0.25 | F6: =E6 -> 0.25 | G6: =F6 -> 0.25 | H6: =G6 -> 0.25 | I6: =H6 -> 0.25 | J6: =I6 -> 0.25 | K6: =J6 -> 0.25 | ... S6: =R6 -> 0.25
B7: Adjusted tax | C7: =-C6*C5 -> -777.25 | D7: =-D6*D5 -> -693.75 | E7: =-E6*E5 -> -671.25 | F7: =-F6*F5 -> -628 | G7: =-G6*G5 -> -571 | H7: =-H6*H5 -> -520.5 | I7: =-I6*I5 -> -552.25 | J7: =-J6*J5 -> -472.5 | ... S7: =-S6*S5 -> -911.83602
A10: x | B10: DCF | C10: =C3 -> 2016 | D10: =D3 -> 2017 | E10: =E3 -> 2018 | F10: =F3 -> 2019 | G10: =G3 -> 2020 | H10: =H3 -> 2021 | I10: =I3 -> 2022 | J10: =J3 -> 2023 | ... S10: =S3 -> 2032
B11: EBITDA | C11: ='Income Statement'!AU453 -> 4502 | D11: ='Income Statement'!AZ453 -> 4195 | E11: ='Income Statement'!BE453 -> 3843 | F11: ='Income Statement'!BJ453 -> 3926 | G11: ='Income Statement'!BO453 -> 3814 | H11: ='Income Statement'!BT453 -> 3876 | I11: ='Income Statement'!BY453 -> 3929 | J11: ='Income Statement'!CD453 -> 3960 | K11: ='Income Statement'!CI453 -> 4122 | L11: ='Income Statement'!CN453 -> 4329 | M11: ='Income Statement'!CQ453 -> 4521.5933 | N11: ='Income Statement'!CR453 -> 4652.7746 | O11: ='Income Statement'!CS453 -> 4782.7278 | P11: ='Income Statement'!CT453 -> 4920.6127 | Q11: ='Income Statement'!CU453 -> 5055.0552 | R11: ='Income Statement'!CV453 -> 5192.1233 | S11: ='Income Statement'!CW453 -> 5332.0711
B12: (-) Adjusted tax | C12: =C7 -> -777.25 | D12: =D7 -> -693.75 | E12: =E7 -> -671.25 | F12: =F7 -> -628 | G12: =G7 -> -571 | H12: =H7 -> -520.5 | I12: =I7 -> -552.25 | J12: =J7 -> -472.5 | ... S12: =S7 -> -911.83602
B13: (-) Capex | C13: =-'Income Statement'!AU508 -> -1189 | D13: =-'Income Statement'!AZ508 -> -1028 | E13: =-'Income Statement'!BE508 -> -1038 | F13: =-'Income Statement'!BJ508 -> -1213 | G13: =-'Income Statement'!BO508 -> -1245 | H13: =-'Income Statement'!BT508 -> -1187 | I13: =-'Income Statement'!BY508 -> -1114 | J13: =-'Income Statement'!CD508 -> -813 | K13: =-'Income Statement'!CI508 -> -674 | L13: =-'Income Statement'!CN508 -> -986 | M13: =-'Income Statement'!CQ508 -> -1094.5589 | N13: =-'Income Statement'!CR508 -> -1009.5345 | O13: =-'Income Statement'!CS508 -> -1034.2471 | P13: =-'Income Statement'!CT508 -> -1060.3356 | Q13: =-'Income Statement'!CU508 -> -1085.6165 | R13: =-'Income Statement'!CV508 -> -1111.2607 | S13: =-'Income Statement'!CW508 -> -1516.4251
B14: (-) Changes in Working capital | C14: ='Balance Sheet and Cflow'!K169 -> -220 | D14: ='Balance Sheet and Cflow'!L169 -> -333 | E14: ='Balance Sheet and Cflow'!M169 -> 357 | F14: ='Balance Sheet and Cflow'!N169 -> 13 | G14: ='Balance Sheet and Cflow'!O169 -> -14 | H14: ='Balance Sheet and Cflow'!P169 -> 332 | I14: ='Balance Sheet and Cflow'!Q169 -> -561 | J14: ='Balance Sheet and Cflow'!R169 -> 1 | ... S14: ='Balance Sheet and Cflow'!AA169 -> -62.189827
B15: Free cash flow | C15: =SUM(C11:C14) -> 2315.75 | D15: =SUM(D11:D14) -> 2140.25 | E15: =SUM(E11:E14) -> 2490.75 | F15: =SUM(F11:F14) -> 2098 | G15: =SUM(G11:G14) -> 1984 | H15: =SUM(H11:H14) -> 2500.5 | I15: =SUM(I11:I14) -> 1701.75 | J15: =SUM(J11:J14) -> 2675.5 | ... S15: =SUM(S11:S14) -> 2841.6201
B16: Growth | D16: =D15/C15-1 -> -0.075785383 | E16: =E15/D15-1 -> 0.16376592 | F16: =F15/E15-1 -> -0.15768343 | G16: =G15/F15-1 -> -0.054337464 | H16: =H15/G15-1 -> 0.26033266 | I16: =I15/H15-1 -> -0.31943611 | J16: =J15/I15-1 -> 0.57220508 | K16: =K15/J15-1 -> 0.10147636 | ... S16: =S15/R15-1 -> -0.09789894
B18: Year | C18: 0 | D18: 0 | E18: 0 | F18: 0 | G18: 0 | H18: 0 | I18: 0 | J18: 0 | K18: 0 | L18: 0 | M18: 0 | N18: =M18+1 -> 1 | O18: =N18+1 -> 2 | P18: =O18+1 -> 3 | Q18: =P18+1 -> 4 | R18: =Q18+1 -> 5 | S18: =R18+1 -> 6
B19: Discount factor | C19: 0 | D19: 0 | E19: 0 | F19: 0 | G19: 0 | H19: 0 | I19: 0 | J19: 0 | K19: 0 | L19: 0 | M19: 0 | N19: =(1/(1+$C$53)^N18) -> 0.93385941 | O19: =(1/(1+$C$53)^O18) -> 0.87209339 | P19: =(1/(1+$C$53)^P18) -> 0.81441262 | Q19: =(1/(1+$C$53)^Q18) -> 0.76054689 | R19: =(1/(1+$C$53)^R18) -> 0.71024386 | S19: =(1/(1+$C$53)^S18) -> 0.66326791
B20: PV cash flows | C20: =C15*C19 -> 0 | D20: =D15*D19 -> 0 | E20: =E15*E19 -> 0 | F20: =F15*F19 -> 0 | G20: =G15*G19 -> 0 | H20: =H15*H19 -> 0 | I20: =I15*I19 -> 0 | J20: =J15*J19 -> 0 | ... S20: =S15*S19 -> 1884.7555
A23: x | B23: Valuation | D23: NSR target
B24: NPV | C24: =SUM(N20:S20) -> 14118.647
B25: Terminal value | C25: =(S15*(1+C54)/(C53-C54))*S19 -> 37824.9
B26: Future licence payments | C26: -200
B27: EV (MYR m) | C27: =C25+C24+C26 -> 51743.547 | D27: =D30-D29 -> 46571.898 | E27: MYR/USD
B28: EV (US$ m) | C28: =C27/E28 -> 12935.887 | E28: 4
B29: (-) Net debt | C29: =-'Balance Sheet and Cflow'!U135 -> -7994.3729 | D29: =C29 -> -7994.3729
B30: Market cap (MYR m) | C30: =C27+C29 -> 43749.174 | D30: =D32*D31 -> 38577.525
B31: / Shares outstanding | C31: ='Balance Sheet and Cflow'!T214 -> 7833 | D31: =C31 -> 7833
C32: =C30/C31 -> 5.5852387 | D32: =D34-D33 -> 4.925
B33: Add dividend | C33: ='Income Statement'!CN501 -> 0.175 | D33: =C33 -> 0.175
B34: Target price | C34: =C32+C33 -> 5.7602387 | D34: 5.1 | E34: 4.2
B35: Current price | C35: 3.68 | D35: {=_xll.FDS("6012-MY","FG_PRICE(0)")} -> 3.68
B36: Upside/downside | C36: =D34/C35-1 -> 0.38586957
B38: Current market cap
B39: Ticker | C39: 6012-MY
B40: Current price | C40: 3.68 | D40: {=_xll.FDS(C39,"FG_PRICE(0)")} -> 3.68
B41: Shares outstanding, m | C41: 7841.9 | D41: {=_xll.FDS(C39,"FF_COM_SHS_OUT(CURR,0)")} -> 7841.9
B42: Market Cap, MYR bn | C42: =C40*C41/1000 -> 28.858192 | D42: =C42/D43 -> 7.0609719
B43: MYR/USD | D43: {=_xll.FDS("","P_EXCH_RATE(USD,MYR,0)")} -> 4.087
B45: WACC
B46: Rf | C46: 0.039
B47: Tax rate | C47: 0.25
B48: Equity premium | C48: 0.04
...

Sheet Valuation
BH1: 4.34
B2: Share price | C2: =DCF!$C$35 -> 3.68
D4: 2008 | E4: =D4+1 -> 2009 | F4: =E4+1 -> 2010 | G4: =F4+1 -> 2011 | H4: =G4+1 -> 2012 | I4: =H4+1 -> 2013 | J4: =I4+1 -> 2014 | K4: =J4+1 -> 2015 | L4: =K4+1 -> 2016 | ... AB4: =AA4+1 -> 2032 | BH4: New Opco 2014 EV/EBITDA | BI4: 3.98 | BJ4: 3.78 | BK4: 3.58 | BL4: 3.4 | BM4: 3.2 | BN4: 2.99 | BO4: 2.8 | BP4: 2.6 | BQ4: 2.4
B5: Share price | D5: =$C$2 -> 3.68 | E5: =$C$2 -> 3.68 | F5: =$C$2 -> 3.68 | G5: =$C$2 -> 3.68 | H5: =$C$2 -> 3.68 | I5: =$C$2 -> 3.68 | J5: =$C$2 -> 3.68 | K5: =$C$2 -> 3.68 | ... AB5: =$C$2 -> 3.68 | BH5: Premium/(discount) to MTS | BI5: =BI4/$BH$1-1 -> -0.082949309 | BJ5: =BJ4/$BH$1-1 -> -0.12903226 | BK5: =BK4/$BH$1-1 -> -0.17511521 | BL5: =BL4/$BH$1-1 -> -0.21658986 | BM5: =BM4/$BH$1-1 -> -0.26267281 | BN5: =BN4/$BH$1-1 -> -0.31105991 | BO5: =BO4/$BH$1-1 -> -0.35483871 | BP5: =BP4/$BH$1-1 -> -0.40092166 | BQ5: =BQ4/$BH$1-1 -> -0.44700461
B6: Number of shares | D6: ='Income Statement'!G504 -> 0 | E6: ='Income Statement'!L504 -> 7500 | F6: ='Income Statement'!Q504 -> 7500 | G6: ='Income Statement'!V504 -> 7500 | H6: ='Income Statement'!AA504 -> 7500 | I6: ='Income Statement'!AF504 -> 7500 | J6: ='Income Statement'!AK504 -> 7500 | K6: ='Income Statement'!AP504 -> 7500 | L6: ='Income Statement'!AU504 -> 7500 | M6: ='Income Statement'!AZ504 -> 7800 | N6: ='Income Statement'!BE504 -> 7810 | O6: ='Income Statement'!BJ504 -> 7820 | P6: ='Income Statement'!BO504 -> 7825 | Q6: ='Income Statement'!BT504 -> 7825 | R6: ='Income Statement'!BY504 -> 7828 | S6: ='Income Statement'!CD504 -> 7832 | T6: ='Income Statement'!CI504 -> 7832 | U6: ='Income Statement'!CN504 -> 7835 | V6: ='Income Statement'!CQ504 -> 7835 | W6: ='Income Statement'!CR504 -> 7835 | X6: ='Income Statement'!CS504 -> 7835 | Y6: ='Income Statement'!CT504 -> 7835 | Z6: ='Income Statement'!CU504 -> 7835 | AA6: ='Income Statement'!CV504 -> 7835 | AB6: ='Income Statement'!CW504 -> 7835
B7: Market capitalisation | D7: =D5*D6 -> 0 | E7: =E5*E6 -> 27600 | F7: =F5*F6 -> 27600 | G7: =G5*G6 -> 27600 | H7: =H5*H6 -> 27600 | I7: =I5*I6 -> 27600 | J7: =J5*J6 -> 27600 | K7: =K5*K6 -> 27600 | ... AB7: =AB5*AB6 -> 28832.8 | BH7: Sale of just fixed asset
B8: Less: treasury shares | AY8: Wind Multiple | AZ8: 5x | BA8: 5.5x | BB8: 6x | BC8: 6.5x | BD8: 7x | BE8: 7.5x | BF8: 8x | BH8: New Opco 2014 EV/EBITDA
B9: Equity value | D9: =D7+D8 -> 0 | E9: =E7+E8 -> 27600 | F9: =F7+F8 -> 27600 | G9: =G7+G8 -> 27600 | H9: =H7+H8 -> 27600 | I9: =I7+I8 -> 27600 | J9: =J7+J8 -> 27600 | K9: =K7+K8 -> 27600 | ... AB9: =AB7+AB8 -> 28832.8 | AY9: New Opco EV/EBITDA | AZ9: 4.38 | BA9: 4.18 | BB9: 3.98 | BC9: 3.78 | BD9: 3.58 | BE9: 3.4 | BF9: 3.2 | BH9: Premium/(discount) to MTS
B10: + Net debt | D10: ='Balance Sheet and Cflow'!C66 -> 0 | E10: ='Balance Sheet and Cflow'!D66 -> 3874 | F10: ='Balance Sheet and Cflow'!E66 -> 4557 | G10: ='Balance Sheet and Cflow'!F66 -> 5437 | H10: ='Balance Sheet and Cflow'!G66 -> 6035.4877 | I10: ='Balance Sheet and Cflow'!H66 -> 6715 | J10: ='Balance Sheet and Cflow'!I66 -> 7467.4381 | K10: ='Balance Sheet and Cflow'!J66 -> 8582.4381 | ... AB10: ='Balance Sheet and Cflow'!AA66 -> 4805.1775
B11: (-) Other financial liabilities
B12: (-) Associates | AZ12: Wind
B13: + Minorities | AD13: NCI | AY13: EBITDA | AZ13: ='[6]VIP Summary'!N539 -> 0 | BA13: 508
B14: (-) Tax credit | AY14: Multiple | AZ14: 10 | BA14: 8.4
B15: (-) Cumulative dividend payments | T15: 0 | U15: ='Balance Sheet and Cflow'!T61 -> -1332 | V15: ='Balance Sheet and Cflow'!U61 -> -1614.9853 | W15: ='Balance Sheet and Cflow'!V61 -> -1732.1144 | X15: ='Balance Sheet and Cflow'!W61 -> -1836.6121 | Y15: ='Balance Sheet and Cflow'!X61 -> -1949.9105 | Z15: ='Balance Sheet and Cflow'!Y61 -> -2073.1963 | AA15: ='Balance Sheet and Cflow'!Z61 -> -2190.026 | AB15: ='Balance Sheet and Cflow'!AA61 -> -2328.0673 | AY15: EV of transaction | AZ15: =AZ13*AZ14 -> 0 | BA15: =BA13*BA14 -> 4267.2
B16: EV | D16: =D7+D10+D11-D12+D13-D15-D14 -> 0 | E16: =E7+E10+E11-E12+E13-E15-E14 -> 31474 | F16: =F7+F10+F11-F12+F13-F15-F14 -> 32157 | G16: =G7+G10+G11-G12+G13-G15-G14 -> 33037 | H16: =H7+H10+H11-H12+H13-H15-H14 -> 33635.488 | I16: =I7+I10+I11-I12+I13-I15-I14 -> 34315 | J16: =J7+J10+J11-J12+J13-J15-J14 -> 35067.438 | K16: =K7+K10+K11-K12+K13-K15-K14 -> 36182.438 | ... AB16: =AB7+AB10+AB11-AB12+AB13-AB15-AB14 -> 35966.045
AY17: Current market EV | AZ17: =J16 -> 35067.438 | BA17: =AZ17 -> 35067.438
B18: Equity value | D18: =D9 -> 0 | E18: =E9 -> 27600 | F18: =F9 -> 27600 | G18: =G9 -> 27600 | H18: =H9 -> 27600 | I18: =I9 -> 27600 | J18: =J9 -> 27600 | K18: =K9 -> 27600 | ... AB18: =AB9 -> 28832.8
B19: Less: tax credit NPV
B20: Add: restructuring NPV | AY20: New Opco EV | AZ20: =AZ17-AZ15 -> 35067.438 | BA20: =BA17-BA15 -> 30800.238
B21: EFCF market cap. | D21: =SUM(D18:D20) -> 0 | E21: =SUM(E18:E20) -> 27600 | F21: =SUM(F18:F20) -> 27600 | G21: =SUM(G18:G20) -> 27600 | H21: =SUM(H18:H20) -> 27600 | I21: =SUM(I18:I20) -> 27600 | J21: =SUM(J18:J20) -> 27600 | K21: =SUM(K18:K20) -> 27600 | ... AB21: =SUM(AB18:AB20) -> 28832.8 | AY21: New Opco EBITDA | AZ21: =[6]Master!S30-[6]Master!S23 -> 5438.0502 | BA21: =[6]Master!S30-508 -> 5316.1672
AY22: Opco EV/EBITDA | AZ22: =AZ20/AZ21 -> 6.4485315 | BA22: =BA20/BA21 -> 5.7936925
B23: Financials | D23: =D$4 -> 2008 | E23: =E$4 -> 2009 | F23: =F$4 -> 2010 | G23: =G$4 -> 2011 | H23: =H$4 -> 2012 | I23: =I$4 -> 2013 | J23: =J$4 -> 2014 | K23: =K$4 -> 2015 | ... AB23: =AB$4 -> 2032
B24: Revenue | D24: ='Income Statement'!G432 -> 8449.9 | E24: ='Income Statement'!L432 -> 8612 | F24: ='Income Statement'!Q432 -> 8869 | G24: ='Income Statement'!V432 -> 8783 | H24: ='Income Statement'!AA432 -> 8880 | I24: ='Income Statement'!AF432 -> 9028.372 | J24: ='Income Statement'!AK432 -> 8404 | K24: ='Income Statement'!AP432 -> 8601 | L24: ='Income Statement'!AU432 -> 8612 | M24: ='Income Statement'!AZ432 -> 9419 | N24: ='Income Statement'!BE432 -> 9192 | O24: ='Income Statement'!BJ432 -> 9313 | P24: ='Income Statement'!BO432 -> 8966 | Q24: ='Income Statement'!BT432 -> 9241 | R24: ='Income Statement'!BY432 -> 9789 | S24: ='Income Statement'!CD432 -> 10180 | T24: ='Income Statement'!CI432 -> 10536 | U24: ='Income Statement'!CN432 -> 10635 | V24: ='Income Statement'!CQ432 -> 10945.589 | W24: ='Income Statement'!CR432 -> 11217.05 | X24: ='Income Statement'!CS432 -> 11491.634 | Y24: ='Income Statement'!CT432 -> 11781.507 | Z24: ='Income Statement'!CU432 -> 12062.406 | AA24: ='Income Statement'!CV432 -> 12347.341 | AB24: ='Income Statement'!CW432 -> 12636.876
B25: EBITDA | D25: ='Income Statement'!G453 -> 4402.2 | E25: ='Income Statement'!L453 -> 4220 | F25: ='Income Statement'!Q453 -> 4416 | G25: ='Income Statement'!V453 -> 4423 | H25: ='Income Statement'!AA453 -> 4359 | I25: ='Income Statement'!AF453 -> 4522 | J25: ='Income Statement'!AK453 -> 4112.3305 | K25: ='Income Statement'!AP453 -> 4426 | L25: ='Income Statement'!AU453 -> 4502 | M25: ='Income Statement'!AZ453 -> 4195 | N25: ='Income Statement'!BE453 -> 3843 | O25: ='Income Statement'!BJ453 -> 3926 | P25: ='Income Statement'!BO453 -> 3814 | Q25: ='Income Statement'!BT453 -> 3876 | R25: ='Income Statement'!BY453 -> 3929 | S25: ='Income Statement'!CD453 -> 3960 | T25: ='Income Statement'!CI453 -> 4122 | U25: ='Income Statement'!CN453 -> 4329 | V25: ='Income Statement'!CQ453 -> 4521.5933 | W25: ='Income Statement'!CR453 -> 4652.7746 | X25: ='Income Statement'!CS453 -> 4782.7278 | Y25: ='Income Statement'!CT453 -> 4920.6127 | Z25: ='Income Statement'!CU453 -> 5055.0552 | AA25: ='Income Statement'!CV453 -> 5192.1233 | AB25: ='Income Statement'!CW453 -> 5332.0711
B26: EBIT | D26: ='Income Statement'!G471 -> 3210 | E26: ='Income Statement'!L471 -> 3055 | F26: ='Income Statement'!Q471 -> 3343 | G26: ='Income Statement'!V471 -> 3232 | H26: ='Income Statement'!AA471 -> 2997 | I26: ='Income Statement'!AF471 -> 3156 | J26: ='Income Statement'!AK471 -> 2685.3305 | K26: ='Income Statement'!AP471 -> 3156 | L26: ='Income Statement'!AU471 -> 3109 | M26: ='Income Statement'!AZ471 -> 2775 | N26: ='Income Statement'!BE471 -> 2685 | O26: ='Income Statement'!BJ471 -> 2512 | P26: ='Income Statement'!BO471 -> 2284 | Q26: ='Income Statement'!BT471 -> 2082 | R26: ='Income Statement'!BY471 -> 2209 | S26: ='Income Statement'!CD471 -> 1890 | T26: ='Income Statement'!CI471 -> 2324 | U26: ='Income Statement'!CN471 -> 2521 | V26: ='Income Statement'!CQ471 -> 2808.9733 | W26: ='Income Statement'!CR471 -> 2936.5606 | X26: ='Income Statement'!CS471 -> 3056.385 | Y26: ='Income Statement'!CT471 -> 3189.1619 | Z26: ='Income Statement'!CU471 -> 3336.7783 | AA26: ='Income Statement'!CV471 -> 3476.2521 | AB26: ='Income Statement'!CW471 -> 3647.3441
B27: Net income to equityholders | D27: ='Income Statement'!G484 -> 2400.6 | E27: ='Income Statement'!L484 -> 2232 | F27: ='Income Statement'!Q484 -> 2295 | G27: ='Income Statement'!V484 -> 2531 | H27: ='Income Statement'!AA484 -> 1993 | I27: ='Income Statement'!AF484 -> 2103 | J27: ='Income Statement'!AK484 -> 1607.5619 | K27: ='Income Statement'!AP484 -> 2064.1792 | L27: ='Income Statement'!AU484 -> 1971 | M27: ='Income Statement'!AZ484 -> 2061 | N27: ='Income Statement'!BE484 -> 1765 | O27: ='Income Statement'!BJ484 -> 1527 | P27: ='Income Statement'!BO484 -> 1410 | Q27: ='Income Statement'!BT484 -> 1216 | R27: ='Income Statement'!BY484 -> 1151 | S27: ='Income Statement'!CD484 -> 992 | T27: ='Income Statement'!CI484 -> 1396 | U27: ='Income Statement'!CN484 -> 1583 | V27: ='Income Statement'!CQ484 -> 1794.4281 | W27: ='Income Statement'!CR484 -> 1924.5716 | X27: ='Income Statement'!CS484 -> 2040.6801 | Y27: ='Income Statement'!CT484 -> 2166.5672 | Z27: ='Income Statement'!CU484 -> 2303.5515 | AA27: ='Income Statement'!CV484 -> 2433.3623 | AB27: ='Income Statement'!CW484 -> 2586.7414
B28: OpFCF | D28: ='Income Statement'!G511 -> 3599.4 | E28: ='Income Statement'!L511 -> 3630 | F28: ='Income Statement'!Q511 -> 2972 | G28: ='Income Statement'!V511 -> 3434 | H28: ='Income Statement'!AA511 -> 3369 | I28: ='Income Statement'!AF511 -> 3707 | J28: ='Income Statement'!AK511 -> 2972.3305 | K28: ='Income Statement'!AP511 -> 3122 | L28: ='Income Statement'!AU511 -> 3313 | M28: ='Income Statement'!AZ511 -> 3167 | N28: ='Income Statement'!BE511 -> 2805 | O28: ='Income Statement'!BJ511 -> 2713 | P28: ='Income Statement'!BO511 -> 2569 | Q28: ='Income Statement'!BT511 -> 2689 | R28: ='Income Statement'!BY511 -> 2815 | S28: ='Income Statement'!CD511 -> 3147 | T28: ='Income Statement'!CI511 -> 3448 | U28: ='Income Statement'!CN511 -> 3343 | V28: ='Income Statement'!CQ511 -> 3427.0344 | W28: ='Income Statement'!CR511 -> 3643.2401 | X28: ='Income Statement'!CS511 -> 3748.4807 | Y28: ='Income Statement'!CT511 -> 3860.2771 | Z28: ='Income Statement'!CU511 -> 3969.4387 | AA28: ='Income Statement'!CV511 -> 4080.8626 | AB28: ='Income Statement'!CW511 -> 3815.646
B29: FCF | D29: =D28*(1-0.25) -> 2699.55 | E29: =E28*(1-0.25) -> 2722.5 | F29: =F28*(1-0.25) -> 2229 | G29: =G28*(1-0.25) -> 2575.5 | H29: =H28*(1-0.25) -> 2526.75 | I29: =I28*(1-0.25) -> 2780.25 | J29: =J28*(1-0.25) -> 2229.2479 | K29: =K28*(1-0.25) -> 2341.5 | ... AB29: =AB28*(1-0.25) -> 2861.7345 | AD29: OpFCF(1-tax)
B30: EFCF | D30: ='Balance Sheet and Cflow'!C303 -> 2906.8 | E30: ='Balance Sheet and Cflow'!D303 -> 2975 | F30: ='Balance Sheet and Cflow'!E303 -> 1699 | G30: ='Balance Sheet and Cflow'!F303 -> 2564 | H30: ='Balance Sheet and Cflow'!G303 -> 2401.5123 | I30: ='Balance Sheet and Cflow'!H303 -> 2400.4877 | J30: ='Balance Sheet and Cflow'!I303 -> 2442.5619 | K30: ='Balance Sheet and Cflow'!J303 -> 2007 | ... AB30: ='Balance Sheet and Cflow'!AA303 -> 2338.121
B31: EPS | D31: ='Income Statement'!G499 -> 0 | E31: ='Income Statement'!L499 -> 0.2976 | F31: ='Income Statement'!Q499 -> 0.306 | G31: ='Income Statement'!V499 -> 0.33693333 | H31: ='Income Statement'!AA499 -> 0.248 | I31: ='Income Statement'!AF499 -> 0.26453333 | J31: ='Income Statement'!AK499 -> 0.23 | K31: ='Income Statement'!AP499 -> 0.23293333 | L31: ='Income Statement'!AU499 -> 0.2684 | M31: ='Income Statement'!AZ499 -> 0.28 | N31: ='Income Statement'!BE499 -> 0.23533333 | O31: ='Income Statement'!BJ499 -> 0.19424552 | P31: ='Income Statement'!BO499 -> 0.17699681 | Q31: ='Income Statement'!BT499 -> 0.15539936 | R31: ='Income Statement'!BY499 -> 0.14715837 | S31: ='Income Statement'!CD499 -> 0.12685422 | T31: ='Income Statement'!CI499 -> 0.1784485 | U31: ='Income Statement'!CN499 -> 0.19952334 | V31: ='Income Statement'!CQ499 -> 0.2290272 | W31: ='Income Statement'!CR499 -> 0.24563773 | X31: ='Income Statement'!CS499 -> 0.26045694 | Y31: ='Income Statement'!CT499 -> 0.27652421 | Z31: ='Income Statement'!CU499 -> 0.29400785 | AA31: ='Income Statement'!CV499 -> 0.31057591 | AB31: ='Income Statement'!CW499 -> 0.33015206
B32: EFCFPS | D32: =IFERROR(D30/D6,"") | E32: =IFERROR(E30/E6,"") -> 0.39666667 | F32: =IFERROR(F30/F6,"") -> 0.22653333 | G32: =IFERROR(G30/G6,"") -> 0.34186667 | H32: =IFERROR(H30/H6,"") -> 0.32020164 | I32: =IFERROR(I30/I6,"") -> 0.32006503 | J32: =IFERROR(J30/J6,"") -> 0.32567492 | K32: =IFERROR(K30/K6,"") -> 0.2676 | ... AB32: =IFERROR(AB30/AB6,"") -> 0.29842003 | AD32: After licenses and lease payments
B33: DPS | D33: ='Income Statement'!G501 -> 0 | E33: ='Income Statement'!L501 -> 0.09 | F33: ='Income Statement'!Q501 -> 0.4 | G33: ='Income Statement'!V501 -> 0.4 | H33: ='Income Statement'!AA501 -> 0.4 | I33: ='Income Statement'!AF501 -> 0.4 | J33: ='Income Statement'!AK501 -> 0.4 | K33: ='Income Statement'!AP501 -> 0.2 | L33: ='Income Statement'!AU501 -> 0.2 | M33: ='Income Statement'!AZ501 -> 0.2 | N33: ='Income Statement'!BE501 -> 0.2 | O33: ='Income Statement'!BJ501 -> 0.2 | P33: ='Income Statement'!BO501 -> 0.17 | Q33: ='Income Statement'!BT501 -> 0.17 | R33: ='Income Statement'!BY501 -> 0.2 | S33: ='Income Statement'!CD501 -> 0.16 | T33: ='Income Statement'!CI501 -> 0.17 | U33: ='Income Statement'!CN501 -> 0.175 | V33: ='Income Statement'!CQ501 -> 0.20612448 | W33: ='Income Statement'!CR501 -> 0.22107396 | X33: ='Income Statement'!CS501 -> 0.23441125 | Y33: ='Income Statement'!CT501 -> 0.24887179 | Z33: ='Income Statement'!CU501 -> 0.26460706 | AA33: ='Income Statement'!CV501 -> 0.27951832 | AB33: ='Income Statement'!CW501 -> 0.29713686
B35: Multiples | D35: =D$4 -> 2008 | E35: =E$4 -> 2009 | F35: =F$4 -> 2010 | G35: =G$4 -> 2011 | H35: =H$4 -> 2012 | I35: =I$4 -> 2013 | J35: =J$4 -> 2014 | K35: =K$4 -> 2015 | ... AB35: =AB$4 -> 2032
B36: EV/ Revenue | E36: =E$16/E24 -> 3.6546679 | F36: =F$16/F24 -> 3.6257752 | G36: =G$16/G24 -> 3.761471 | H36: =H$16/H24 -> 3.7877801 | I36: =I$16/I24 -> 3.800796 | J36: =J$16/J24 -> 4.172708 | K36: =K$16/K24 -> 4.2067711 | L36: =L$16/L24 -> 4.271039 | ... AB36: =AB$16/AB24 -> 2.8461184
B37: EV/ EBITDA | E37: =E$16/E25 -> 7.4582938 | F37: =F$16/F25 -> 7.2819293 | G37: =G$16/G25 -> 7.4693647 | H37: =H$16/H25 -> 7.7163312 | I37: =I$16/I25 -> 7.5884564 | J37: =J$16/J25 -> 8.527388 | K37: =K$16/K25 -> 8.1749747 | L37: =L$16/L25 -> 8.1701884 | ... AB37: =AB$16/AB25 -> 6.7452298
B38: EV/ OpFCF | E38: =E$16/E28 -> 8.6705234 | F38: =F$16/F28 -> 10.819987 | G38: =G$16/G28 -> 9.6205591 | H38: =H$16/H28 -> 9.9838195 | I38: =I$16/I28 -> 9.2568114 | J38: =J$16/J28 -> 11.797961 | K38: =K$16/K28 -> 11.589506 | L38: =L$16/L28 -> 11.102381 | ... AB38: =AB$16/AB28 -> 9.4259386
B39: EV/ FCF | E39: =E$16/E29 -> 11.560698 | F39: =F$16/F29 -> 14.426649 | G39: =G$16/G29 -> 12.827412 | H39: =H$16/H29 -> 13.311759 | I39: =I$16/I29 -> 12.342415 | J39: =J$16/J29 -> 15.730614 | K39: =K$16/K29 -> 15.452675 | L39: =L$16/L29 -> 14.803175 | ... AB39: =AB$16/AB29 -> 12.567918
B40: P/E | E40: =IF(E9/E27<0,"nm",E9/E27) -> 12.365591 | F40: =IF(F9/F27<0,"nm",F9/F27) -> 12.026144 | G40: =IF(G9/G27<0,"nm",G9/G27) -> 10.904781 | H40: =IF(H9/H27<0,"nm",H9/H27) -> 13.84847 | I40: =IF(I9/I27<0,"nm",I9/I27) -> 13.124108 | J40: =IF(J9/J27<0,"nm",J9/J27) -> 17.168857 | K40: =IF(K9/K27<0,"nm",K9/K27) -> 13.370932 | L40: =IF(L9/L27<0,"nm",L9/L27) -> 14.003044 | ... AB40: =IF(AB9/AB27<0,"nm",AB9/AB27) -> 11.146379
B41: P/ EFCF | E41: =IFERROR(IF(E9/E30<0,"nm",E9/E30),"nm") -> 9.2773109 | F41: =IFERROR(IF(F9/F30<0,"nm",F9/F30),"nm") -> 16.24485 | G41: =IFERROR(IF(G9/G30<0,"nm",G9/G30),"nm") -> 10.764431 | H41: =IFERROR(IF(H9/H30<0,"nm",H9/H30),"nm") -> 11.492758 | I41: =IFERROR(IF(I9/I30<0,"nm",I9/I30),"nm") -> 11.497663 | J41: =IFERROR(IF(J9/J30<0,"nm",J9/J30),"nm") -> 11.299611 | K41: =IFERROR(IF(K9/K30<0,"nm",K9/K30),"nm") -> 13.751868 | L41: =IFERROR(IF(L9/L30<0,"nm",L9/L30),"nm") -> 16.093294 | ... AB41: =IFERROR(IF(AB9/AB30<0,"nm",AB9/AB30),"nm") -> 12.331612
B42: EFCF yield | E42: =IFERROR(IF(E32/$C$2<0,"nm",E32/$C$2),"nm") -> 0.10778986 | F42: =IFERROR(IF(F32/$C$2<0,"nm",F32/$C$2),"nm") -> 0.061557971 | G42: =IFERROR(IF(G32/$C$2<0,"nm",G32/$C$2),"nm") -> 0.092898551 | H42: =IFERROR(IF(H32/$C$2<0,"nm",H32/$C$2),"nm") -> 0.087011314 | I42: =IFERROR(IF(I32/$C$2<0,"nm",I32/$C$2),"nm") -> 0.086974193 | J42: =IFERROR(IF(J32/$C$2<0,"nm",J32/$C$2),"nm") -> 0.088498619 | K42: =IFERROR(IF(K32/$C$2<0,"nm",K32/$C$2),"nm") -> 0.072717391 | L42: =IFERROR(IF(L32/$C$2<0,"nm",L32/$C$2),"nm") -> 0.062137681 | ... AB42: =IFERROR(IF(AB32/$C$2<0,"nm",AB32/$C$2),"nm") -> 0.0810924
...

Sheet Income Statement
A1: =DCF!C34 -> 5.7602387 | CQ1: ='Balance Sheet and Cflow'!U3 -> -0.18812593 | CR1: ='Balance Sheet and Cflow'!V3 -> -0.18812593 | CS1: ='Balance Sheet and Cflow'!W3 -> -0.18812593 | CT1: ='Balance Sheet and Cflow'!X3 -> -0.19339857 | CU1: ='Balance Sheet and Cflow'!Y3 -> -0.22226877 | CV1: ='Balance Sheet and Cflow'!Z3 -> -0.30540666 | CW1: ='Balance Sheet and Cflow'!AA3 -> -0.48240211
A2: Figures in MYR m, except subscribers in '000 | B2: 2007 | C2: Q1 | D2: Q2 | E2: Q3 | F2: Q4 | G2: =B2+1 -> 2008 | H2: Q1 | I2: Q2 | J2: Q3 | K2: Q4 | L2: =G2+1 -> 2009 | M2: Q1 | N2: Q2 | O2: Q3 | P2: Q4 | Q2: =L2+1 -> 2010 | R2: Q1 | S2: Q2 | T2: Q3 | U2: Q4 | V2: =Q2+1 -> 2011 | W2: Q1 | X2: Q2 | Y2: Q3 | Z2: Q4 | AA2: =V2+1 -> 2012 | AB2: Q1 | AC2: Q2 | AD2: Q3 | AE2: Q4 | AF2: =AA2+1 -> 2013 | AG2: Q1 | AH2: Q2 | AI2: Q3 | AJ2: Q4 | AK2: =AF2+1 -> 2014 | AL2: Q1 | AM2: Q2 | AN2: Q3 | AO2: Q4 | AP2: =AK2+1 -> 2015 | AQ2: Q1 | AR2: Q2 | AS2: Q3 | AT2: Q4 | AU2: =AP2+1 -> 2016 | AV2: Q1 | AW2: Q2 | AX2: Q3 | AY2: Q4 | AZ2: =AU2+1 -> 2017 | BA2: Q1 | BB2: Q2 | BC2: Q3 | BD2: Q4 | BE2: =AZ2+1 -> 2018 | BF2: Q1 | BG2: Q2 | BH2: Q3 | BI2: Q4 | BJ2: =BE2+1 -> 2019 | BK2: =BF2 -> Q1 | BL2: =BG2 -> Q2 | BM2: =BH2 -> Q3 | BN2: =BI2 -> Q4 | BO2: =BJ2+1 -> 2020 | BP2: =BK2 -> Q1 | BQ2: =BL2 -> Q2 | BR2: =BM2 -> Q3 | BS2: =BN2 -> Q4 | BT2: =BO2+1 -> 2021 | BU2: =BP2 -> Q1 | BV2: =BQ2 -> Q2 | BW2: =BR2 -> Q3 | BX2: =BS2 -> Q4 | BY2: =BT2+1 -> 2022 | BZ2: =BU2 -> Q1 | CA2: =BV2 -> Q2 | CB2: =BW2 -> Q3 | CC2: =BX2 -> Q4 | CD2: =BY2+1 -> 2023 | CE2: =BZ2 -> Q1 | CF2: =CA2 -> Q2 | CG2: =CB2 -> Q3 | CH2: =CC2 -> Q4 | CI2: =CD2+1 -> 2024 | CJ2: =CE2 -> Q1 | CK2: =CF2 -> Q2 | CL2: =CG2 -> Q3 | CM2: =CH2 -> Q4 | CN2: =CI2+1 -> 2025 | CO2: =CJ2 -> Q1 | CP2: =CK2 -> Q2 | CQ2: =CN2+1 -> 2026 | CR2: =CQ2+1 -> 2027 | CS2: =CR2+1 -> 2028 | CT2: =CS2+1 -> 2029 | CU2: =CT2+1 -> 2030 | CV2: =CU2+1 -> 2031 | CW2: =CV2+1 -> 2032 | CY2: Comments
A4: Summary
A6: Consumer | B6: =SUM(B7:B9) -> 0 | C6: =SUM(C7:C9) -> 0 | D6: =SUM(D7:D9) -> 0 | E6: =SUM(E7:E9) -> 0 | F6: =SUM(F7:F9) -> 0 | G6: =SUM(G7:G9) -> 0 | H6: =SUM(H7:H9) -> 0 | I6: =SUM(I7:I9) -> 0 | ... CW6: =SUM(CW7:CW9) -> 8157.238
A7: Postpaid | B7: =B408 -> 0 | C7: =C408 -> 0 | D7: =D408 -> 0 | E7: =E408 -> 0 | F7: =F408 -> 0 | G7: =G408 -> 0 | H7: =H408 -> 0 | I7: =I408 -> 0 | ... CW7: =CW408 -> 4418.627
A8: Prepaid | B8: =B409 -> 0 | C8: =C409 -> 0 | D8: =D409 -> 0 | E8: =E409 -> 0 | F8: =F409 -> 0 | G8: =G409 -> 0 | H8: =H409 -> 0 | I8: =I409 -> 0 | ... CW8: =CW409 -> 2537.2808
A9: Home Connectivity | B9: =B411 -> 0 | C9: =C411 -> 0 | D9: =D411 -> 0 | E9: =E411 -> 0 | F9: =F411 -> 0 | G9: =G411 -> 0 | H9: =H411 -> 0 | I9: =I411 -> 0 | ... CW9: =CW411 -> 1201.3302
A10: Enterprise | B10: =B426 -> 0 | C10: =C426 -> 0 | D10: =D426 -> 0 | E10: =E426 -> 0 | F10: =F426 -> 0 | G10: =G426 -> 0 | H10: =H426 -> 0 | I10: =I426 -> 0 | ... CW10: =CW426 -> 2236.8374
A11: Mobile | B11: =B424 -> 0 | C11: =C424 -> 0 | D11: =D424 -> 0 | E11: =E424 -> 0 | F11: =F424 -> 0 | G11: =G424 -> 0 | H11: =H424 -> 0 | I11: =I424 -> 0 | ... CW11: =CW424 -> 0
A12: Fixed & Solutions | B12: =B425 -> 0 | C12: =C425 -> 0 | D12: =D425 -> 0 | E12: =E425 -> 0 | F12: =F425 -> 0 | G12: =G425 -> 0 | H12: =H425 -> 0 | I12: =I425 -> 0 | ... CW12: =CW425 -> 0
A13: Service revenue | B13: =B429 -> 0 | C13: =C429 -> 0 | D13: =D429 -> 0 | E13: =E429 -> 0 | F13: =F429 -> 0 | G13: =G429 -> 0 | H13: =H429 -> 0 | I13: =I429 -> 0 | ... CW13: =CW429 -> 10394.075
A14: % change | G14: =G13/B13-1 -> #DIV/0! | K14: =K13/F13-1 -> #DIV/0! | L14: =L13/G13-1 -> #DIV/0! | M14: =M13/H13-1 -> #DIV/0! | N14: =N13/I13-1 -> #DIV/0! | O14: =O13/J13-1 -> #DIV/0! | P14: =P13/K13-1 -> #DIV/0! | Q14: =Q13/L13-1 -> #DIV/0! | R14: =R13/M13-1 -> #DIV/0! | ... CP14: =CP13/CK13-1 -> 0.021778584 | CQ14: =CQ13/CN13-1 -> 0.015980582 | CR14: =CR13/CQ13-1 -> 0.02266218 | CS14: =CS13/CR13-1 -> 0.023701696 | CT14: =CT13/CS13-1 -> 0.02466879 | CU14: =CU13/CT13-1 -> 0.023050133 | CV14: =CV13/CU13-1 -> 0.022832622 | CW14: =CW13/CV13-1 -> 0.022667997
A15: Check | BP15: =ROUND(BP13-BP10-BP6,0) -> 0 | BQ15: =ROUND(BQ13-BQ10-BQ6,0) -> 0 | BR15: =ROUND(BR13-BR10-BR6,0) -> 0 | BS15: =ROUND(BS13-BS10-BS6,0) -> 0 | BT15: =ROUND(BT13-BT10-BT6,0) -> 0 | BU15: =ROUND(BU13-BU10-BU6,0) -> 0 | BV15: =ROUND(BV13-BV10-BV6,0) -> 0 | BW15: =ROUND(BW13-BW10-BW6,0) -> 0 | ... CW15: =ROUND(CW13-CW10-CW6,0) -> 0
A16: Guidance | CD16: Flat to LSD increase | CI16: LSD | CN16: LSD | CQ16: LSD
A17: Consensus | CD17: =CD13 -> 8572 | CI17: =CI13 -> 8868 | CN17: =CN13 -> 8912 | CQ17: {=_xll.VAData("MXSC_MY", "FY-"&CQ$2, "Service revenue", "Consensus", "CD", "IMPL","","")} -> 9151.2201 | CR17: {=_xll.VAData("MXSC_MY", "FY-"&CR$2, "Service revenue", "Consensus", "CD", "IMPL","","")} -> 9376.3744 | CS17: {=_xll.VAData("MXSC_MY", "FY-"&CS$2, "Service revenue", "Consensus", "CD", "IMPL","","")} -> 9603.7866 | CT17: {=_xll.VAData("MXSC_MY", "FY-"&CT$2, "Service revenue", "Consensus", "CD", "IMPL","","")} -> 9707.7286 | CU17: {=_xll.VAData("MXSC_MY", "FY-"&CU$2, "Service revenue", "Consensus", "CD", "IMPL","","")} -> 9915.0175 | CV17: {=_xll.VAData("MXSC_MY", "FY-"&CV$2, "Service revenue", "Consensus", "CD", "IMPL","","")} -> 10131.996 | CW17: {=_xll.VAData("MXSC_MY", "FY-"&CW$2, "Service revenue", "Consensus", "CD", "IMPL","","")} -> 10210.502
A18: Implied % YoY | CI18: =CI17/CD17-1 -> 0.034531031 | CN18: =CN17/CI17-1 -> 0.0049616599 | CQ18: =CQ17/CN17-1 -> 0.026842475
A19: Diff. | CD19: =CD13/CD17-1 -> 0 | CI19: =CI13/CI17-1 -> 0 | CN19: =CN13/CN17-1 -> 0 | CQ19: =CQ13/CQ17-1 -> -0.010577955 | CR19: =CR13/CR17-1 -> -0.012452846 | CS19: =CS13/CS17-1 -> -0.012985117 | CT19: =CT13/CT17-1 -> 0.00053453434 | CU19: =CU13/CU17-1 -> 0.0021970973 | CV19: =CV13/CV17-1 -> 0.0031276077 | CW19: =CW13/CW17-1 -> 0.017978846
A21: % change
A22: Consumer | G22: =G6/B6-1 -> #DIV/0! | K22: =K6/F6-1 -> #DIV/0! | L22: =L6/G6-1 -> #DIV/0! | M22: =M6/H6-1 -> #DIV/0! | N22: =N6/I6-1 -> #DIV/0! | O22: =O6/J6-1 -> #DIV/0! | P22: =P6/K6-1 -> #DIV/0! | Q22: =Q6/L6-1 -> #DIV/0! | R22: =R6/M6-1 -> #DIV/0! | ... CP22: =CP6/CK6-1 -> 0.021702838 | CQ22: =CQ6/CN6-1 -> 0.019077748 | CR22: =CR6/CQ6-1 -> 0.016483483 | CS22: =CS6/CR6-1 -> 0.017561959 | CT22: =CT6/CS6-1 -> 0.018566309 | CU22: =CU6/CT6-1 -> 0.016357345 | CV22: =CV6/CU6-1 -> 0.015862489 | CW22: =CW6/CV6-1 -> 0.015419982
A23: Postpaid | G23: =G7/B7-1 -> #DIV/0! | K23: =K7/F7-1 -> #DIV/0! | L23: =L7/G7-1 -> #DIV/0! | M23: =M7/H7-1 -> #DIV/0! | N23: =N7/I7-1 -> #DIV/0! | O23: =O7/J7-1 -> #DIV/0! | P23: =P7/K7-1 -> #DIV/0! | Q23: =Q7/L7-1 -> #DIV/0! | R23: =R7/M7-1 -> #DIV/0! | ... CP23: =CP7/CK7-1 -> 0.041800643 | CQ23: =CQ7/CN7-1 -> 0.030700986 | CR23: =CR7/CQ7-1 -> 0.015925897 | CS23: =CS7/CR7-1 -> 0.023295193 | CT23: =CT7/CS7-1 -> 0.022569811 | CU23: =CU7/CT7-1 -> 0.021920262 | CV23: =CV7/CU7-1 -> 0.02133753 | CW23: =CW7/CV7-1 -> 0.020813811
A24: Prepaid | G24: =G8/B8-1 -> #DIV/0! | K24: =K8/F8-1 -> #DIV/0! | L24: =L8/G8-1 -> #DIV/0! | M24: =M8/H8-1 -> #DIV/0! | N24: =N8/I8-1 -> #DIV/0! | O24: =O8/J8-1 -> #DIV/0! | P24: =P8/K8-1 -> #DIV/0! | Q24: =Q8/L8-1 -> #DIV/0! | R24: =R8/M8-1 -> #DIV/0! | ... CP24: =CP8/CK8-1 -> 0.0032786885 | CQ24: =CQ8/CN8-1 -> 0.010272187 | CR24: =CR8/CQ8-1 -> 0.0036231447 | CS24: =CS8/CR8-1 -> 0.0059092843 | CT24: =CT8/CS8-1 -> 0.0052120433 | CU24: =CU8/CT8-1 -> 0.0045884291 | CV24: =CV8/CU8-1 -> 0.0040295871 | CW24: =CW8/CV8-1 -> 0.0035278518
A25: Home Connectivity | G25: =G9/B9-1 -> #DIV/0! | K25: =K9/F9-1 -> #DIV/0! | L25: =L9/G9-1 -> #DIV/0! | M25: =M9/H9-1 -> #DIV/0! | N25: =N9/I9-1 -> #DIV/0! | O25: =O9/J9-1 -> #DIV/0! | P25: =P9/K9-1 -> #DIV/0! | Q25: =Q9/L9-1 -> #DIV/0! | R25: =R9/M9-1 -> #DIV/0! | ... CP25: =CP9/CK9-1 -> -0.0078740157 | CQ25: =CQ9/CN9-1 -> -0.0030110955 | CR25: =CR9/CQ9-1 -> 0.049958694 | CS25: =CS9/CR9-1 -> 0.023352923 | CT25: =CT9/CS9-1 -> 0.034230014 | CU25: =CU9/CT9-1 -> 0.022064733 | CV25: =CV9/CU9-1 -> 0.021588391 | CW25: =CW9/CV9-1 -> 0.021132181
A26: Enterprise | G26: =G10/B10-1 -> #DIV/0! | K26: =K10/F10-1 -> #DIV/0! | L26: =L10/G10-1 -> #DIV/0! | M26: =M10/H10-1 -> #DIV/0! | N26: =N10/I10-1 -> #DIV/0! | O26: =O10/J10-1 -> #DIV/0! | P26: =P10/K10-1 -> #DIV/0! | Q26: =Q10/L10-1 -> #DIV/0! | R26: =R10/M10-1 -> #DIV/0! | ... CP26: =CP10/CK10-1 -> 0.022113022 | CQ26: =CQ10/CN10-1 -> 0.0025 | CR26: =CR10/CQ10-1 -> 0.05 | CS26: =CS10/CR10-1 -> 0.05 | CT26: =CT10/CS10-1 -> 0.05 | CU26: =CU10/CT10-1 -> 0.05 | CV26: =CV10/CU10-1 -> 0.05 | CW26: =CW10/CV10-1 -> 0.05
A27: Mobile | G27: =G11/B11-1 -> #DIV/0! | K27: =K11/F11-1 -> #DIV/0! | L27: =L11/G11-1 -> #DIV/0! | M27: =M11/H11-1 -> #DIV/0! | N27: =N11/I11-1 -> #DIV/0! | O27: =O11/J11-1 -> #DIV/0! | P27: =P11/K11-1 -> #DIV/0! | Q27: =Q11/L11-1 -> #DIV/0! | R27: =R11/M11-1 -> #DIV/0! | ... CH27: =CH11/CC11-1 -> 0.048780488 | CJ27: =CJ11/CE11-1 -> 0.065 | CK27: =CK11/CF11-1 -> 0.024752475 | CL27: =CL11/CG11-1 -> -0.009569378 | CM27: =CM11/CH11-1 -> -0.0046511628 | CO27: =CO11/CJ11-1 -> -0.0093896714 | CP27: =CP11/CK11-1 -> 0.0096618357
A28: Fixed & Solutions | G28: =G12/B12-1 -> #DIV/0! | K28: =K12/F12-1 -> #DIV/0! | L28: =L12/G12-1 -> #DIV/0! | M28: =M12/H12-1 -> #DIV/0! | N28: =N12/I12-1 -> #DIV/0! | O28: =O12/J12-1 -> #DIV/0! | P28: =P12/K12-1 -> #DIV/0! | Q28: =Q12/L12-1 -> #DIV/0! | R28: =R12/M12-1 -> #DIV/0! | ... CH28: =CH12/CC12-1 -> 0.076530612 | CJ28: =CJ12/CE12-1 -> -0.010695187 | CK28: =CK12/CF12-1 -> 0.0050251256 | CL28: =CL12/CG12-1 -> 0.12834225 | CM28: =CM12/CH12-1 -> 0.08056872 | CO28: =CO12/CJ12-1 -> 0.12432432 | CP28: =CP12/CK12-1 -> 0.035
A30: Malaysia Revenues | B30: =B515 -> 7690 | C30: =C515 -> 0 | D30: =D515 -> 0 | E30: =E515 -> 0 | F30: =F515 -> 2204 | G30: =G515 -> 8449.9 | H30: =H515 -> 2129 | I30: =I515 -> 2116 | ... CW30: =CW515 -> 12636.876
A31: Revenues | B31: =B515 -> 7690 | C31: =C515 -> 0 | D31: =D515 -> 0 | E31: =E515 -> 0 | F31: =F515 -> 2204 | G31: =G515 -> 8449.9 | H31: =H515 -> 2129 | I31: =I515 -> 2116 | ... BI31: =BI515 -> 2590 | BJ31: =BJ432 -> 9313 | BK31: =BK515 -> 2341 | BL31: =BL515 -> 2151 | BM31: =BM515 -> 2213 | BN31: =BN515 -> 2261 | BO31: =BO432 -> 8966 | BP31: =BP515 -> 2240 | BQ31: =BQ515 -> 2274 | BR31: =BR515 -> 2271 | BS31: =BS515 -> 2456 | BT31: =BT432 -> 9241 | BU31: =BU515 -> 2406 | BV31: =BV515 -> 2424 | BW31: =BW515 -> 2405 | BX31: =BX515 -> 2554 | BY31: =BY432 -> 9789 | BZ31: =BZ515 -> 2526 | CA31: =CA515 -> 2470 | CB31: =CB515 -> 2442 | CC31: =CC515 -> 2742 | CD31: =CD432 -> 10180 | CE31: =CE515 -> 2603 | CF31: =CF515 -> 2586 | CG31: =CG515 -> 2576 | CH31: =CH515 -> 2771 | CI31: =CI432 -> 10536 | CJ31: =CJ515 -> 2608 | CK31: =CK515 -> 2562 | CL31: =CL515 -> 2589 | CM31: =CM515 -> 2876 | CN31: =CN432 -> 10635 | CO31: =CO515 -> 2731 | CP31: =CP515 -> 2656 | CQ31: =CQ432 -> 10945.589 | CR31: =CR432 -> 11217.05 | CS31: =CS432 -> 11491.634 | CT31: =CT432 -> 11781.507 | CU31: =CU432 -> 12062.406 | CV31: =CV432 -> 12347.341 | CW31: =CW432 -> 12636.876
A32: % change | G32: =G31/B31-1 -> 0.098816645 | K32: =K31/F31-1 -> 0.0031760436 | L32: =L31/G31-1 -> 0.019183659 | M32: =M31/H31-1 -> 0.010803194 | N32: =N31/I31-1 -> 0.035444234 | O32: =O31/J31-1 -> 0.027829314 | P32: =P31/K31-1 -> 0.044776119 | Q32: =Q31/L31-1 -> 0.029842081 | R32: =R31/M31-1 -> -0.0088289963 | ... CP32: =CP31/CK31-1 -> 0.036690086 | CQ32: =CQ31/CN31-1 -> 0.02920438 | CR32: =CR31/CQ31-1 -> 0.024801022 | CS32: =CS31/CR31-1 -> 0.024479147 | CT32: =CT31/CS31-1 -> 0.025224695 | CU32: =CU31/CT31-1 -> 0.023842342 | CV32: =CV31/CU31-1 -> 0.023621717 | CW32: =CW31/CV31-1 -> 0.023449198
A33: Consensus | CD33: {=_xll.VAData("MXSC_MY", "FY-"&CD$2, "Revenue", "Consensus", "CD", "IMPL","","")} -> 10180.25 | CI33: {=_xll.VAData("MXSC_MY", "FY-"&CI$2, "Revenue", "Consensus", "CD", "IMPL","","")} -> 10543.155 | CN33: {=_xll.VAData("MXSC_MY", "FY-"&CN$2, "Revenue", "Consensus", "CD", "IMPL","","")} -> 10635 | CQ33: {=_xll.VAData("MXSC_MY", "FY-"&CQ$2, "Revenue", "Consensus", "CD", "IMPL","","")} -> 10911.649 | CR33: {=_xll.VAData("MXSC_MY", "FY-"&CR$2, "Revenue", "Consensus", "CD", "IMPL","","")} -> 11162.806 | CS33: {=_xll.VAData("MXSC_MY", "FY-"&CS$2, "Revenue", "Consensus", "CD", "IMPL","","")} -> 11418.101 | CT33: {=_xll.VAData("MXSC_MY", "FY-"&CT$2, "Revenue", "Consensus", "CD", "IMPL","","")} -> 11633.103 | CU33: {=_xll.VAData("MXSC_MY", "FY-"&CU$2, "Revenue", "Consensus", "CD", "IMPL","","")} -> 11887.752 | CV33: {=_xll.VAData("MXSC_MY", "FY-"&CV$2, "Revenue", "Consensus", "CD", "IMPL","","")} -> 12154.088 | CW33: {=_xll.VAData("MXSC_MY", "FY-"&CW$2, "Revenue", "Consensus", "CD", "IMPL","","")} -> 12215.869
A34: Diff. | CD34: =CD31/CD33-1 -> -2.4557354e-05 | CI34: =CI31/CI33-1 -> -0.00067860287 | CN34: =CN31/CN33-1 -> 0 | CQ34: =CQ31/CQ33-1 -> 0.0031103868 | CR34: =CR31/CR33-1 -> 0.004859349 | CS34: =CS31/CS33-1 -> 0.0064400795 | CT34: =CT31/CT33-1 -> 0.012757075 | CU34: =CU31/CU33-1 -> 0.014691945 | CV34: =CV31/CV33-1 -> 0.015900193 | CW34: =CW31/CW33-1 -> 0.034463928
A37: EBITDA | B37: =B451 -> 0 | C37: =C451 -> 0 | D37: =D451 -> 0 | E37: =E451 -> 1185 | F37: =F451 -> 1144 | G37: =G451 -> 4402.2 | H37: =H451 -> 1071 | I37: =I451 -> 1075.2475 | ... CW37: =CW451 -> 5332.0711
A38: EBITDA | B38: =B451 -> 0 | C38: =C451 -> 0 | D38: =D451 -> 0 | E38: =E451 -> 1185 | F38: =F451 -> 1144 | G38: =G451 -> 4402.2 | H38: =H451 -> 1071 | I38: =I451 -> 1075.2475 | ... CW38: =CW451 -> 5332.0711
A39: % change | J39: =J38/E38-1 -> -0.083544304 | K39: =K38/F38-1 -> -0.033216783 | L39: =L38/G38-1 -> -0.041388397 | M39: =M38/H38-1 -> 0.010270775 | N39: =N38/I38-1 -> -0.043941068 | O39: =O38/J38-1 -> 0.049723757 | P39: =P38/K38-1 -> 0.054249548 | Q39: =Q38/L38-1 -> 0.046445498 | ... CP39: =CP38/CK38-1 -> 0.027422303 | CQ39: =CQ38/CN38-1 -> 0.04448909 | CR39: =CR38/CQ38-1 -> 0.029012201 | CS39: =CS38/CR38-1 -> 0.027930245 | CT39: =CT38/CS38-1 -> 0.028829769 | CU39: =CU38/CT38-1 -> 0.027322311 | CV39: =CV38/CU38-1 -> 0.02711504 | CW39: =CW38/CV38-1 -> 0.026953871
A40: EBITDA margin | B40: =B38/B31 -> 0 | F40: =F38/F31 -> 0.51905626 | G40: =G38/G31 -> 0.52097658 | H40: =H38/H31 -> 0.50305308 | I40: =I38/I31 -> 0.508151 | J40: =J38/J31 -> 0.50371058 | K40: =K38/K31 -> 0.50022614 | L40: =L38/L31 -> 0.49001393 | M40: =M38/M31 -> 0.5027881 | ... CW40: =CW38/CW31 -> 0.42194536
A41: Guidance | CD41: RM3.9bn | CI41: Upgraded to LSD from "marginal to LSD" | CN41: Upgraded to LSD from "marginal to LSD" | CQ41: LSD
A42: Consensus | CD42: =CD38 -> 3960 | CI42: =CI38 -> 4122 | CN42: =CN38 -> 4329 | CQ42: {=_xll.VAData("MXSC_MY", "FY-"&CQ$2, "EBITDA", "Consensus", "CD", "IMPL","","")} -> 4437.0576 | CR42: {=_xll.VAData("MXSC_MY", "FY-"&CR$2, "EBITDA", "Consensus", "CD", "IMPL","","")} -> 4493.3138 | CS42: {=_xll.VAData("MXSC_MY", "FY-"&CS$2, "EBITDA", "Consensus", "CD", "IMPL","","")} -> 4570.148 | CT42: {=_xll.VAData("MXSC_MY", "FY-"&CT$2, "EBITDA", "Consensus", "CD", "IMPL","","")} -> 4636.4906 | CU42: {=_xll.VAData("MXSC_MY", "FY-"&CU$2, "EBITDA", "Consensus", "CD", "IMPL","","")} -> 4723.2378 | CV42: {=_xll.VAData("MXSC_MY", "FY-"&CV$2, "EBITDA", "Consensus", "CD", "IMPL","","")} -> 4818.6239 | CW42: {=_xll.VAData("MXSC_MY", "FY-"&CW$2, "EBITDA", "Consensus", "CD", "IMPL","","")} -> 4880.9812
A43: Implied % change | CI43: =CI42/CD42-1 -> 0.040909091 | CN43: =CN42/CI42-1 -> 0.050218341 | CQ43: =CQ42/CN42-1 -> 0.024961325 | CR43: =CR42/CQ42-1 -> 0.012678733 | CS43: =CS42/CR42-1 -> 0.017099673 | CT43: =CT42/CS42-1 -> 0.014516507 | CU43: =CU42/CT42-1 -> 0.018709667
A44: Implied margin | CD44: =IFERROR(CD42/CD33,"") -> 0.38898848 | CI44: =IFERROR(CI42/CI33,"") -> 0.39096458 | CN44: =IFERROR(CN42/CN33,"") -> 0.40705219 | CQ44: =IFERROR(CQ42/CQ33,"") -> 0.40663492 | CR44: =IFERROR(CR42/CR33,"") -> 0.40252547 | CS44: =IFERROR(CS42/CS33,"") -> 0.40025466 | CT44: =IFERROR(CT42/CT33,"") -> 0.3985601 | CU44: =IFERROR(CU42/CU33,"") -> 0.39731969
A45: Diff. | CD45: =CD38/CD42-1 -> 0 | CI45: =CI38/CI42-1 -> 0 | CN45: =CN38/CN42-1 -> 0 | CQ45: =CQ38/CQ42-1 -> 0.019052197 | CR45: =CR38/CR42-1 -> 0.035488462 | CS45: =CS38/CS42-1 -> 0.046514847 | CT45: =CT38/CT42-1 -> 0.061279557 | CU45: =CU38/CU42-1 -> 0.070252107 | CV45: =CV38/CV42-1 -> 0.077511631 | CW45: =CW38/CW42-1 -> 0.092417878
A49: Capex | B49: =B508 -> 1124 | C49: =C508 -> 129.8 | D49: =D508 -> 171 | E49: =E508 -> 195 | F49: =F508 -> 401 | G49: =G508 -> 802.8 | H49: =H508 -> 158 | I49: =I508 -> 199 | ... CW49: =CW508 -> 1516.4251
...

Sheet Balance Sheet and Cflow
A1: =DCF!$C$34 -> 5.7602387
A2: Balance sheet, RM m | B2: 2007 | C2: =B2+1 -> 2008 | D2: =C2+1 -> 2009 | E2: =D2+1 -> 2010 | F2: =E2+1 -> 2011 | G2: =F2+1 -> 2012 | H2: =G2+1 -> 2013 | I2: =H2+1 -> 2014 | J2: =I2+1 -> 2015 | ... AA2: =Z2+1 -> 2032
S3: =S40 -> 0 | T3: =T40 -> 0 | U3: =U40 -> -0.18812593 | V3: =V40 -> -0.18812593 | W3: =W40 -> -0.18812593 | X3: =X40 -> -0.19339857 | Y3: =Y40 -> -0.22226877 | Z3: =Z40 -> -0.30540666 | AA3: =AA40 -> -0.48240211
A4: Cash and cash equivalents | D4: =D141 -> 1192 | E4: =E141 -> 898 | F4: =F141 -> 838 | G4: =G141 -> 688 | H4: =H141 -> 808 | I4: =I141 -> 1531 | J4: =J141 -> 1296 | K4: =K141 -> 682 | ... AA4: =AA141 -> 544.21148
A5: Inventory | D5: =D152 -> 134 | E5: =E152 -> 214 | F5: =F152 -> 110 | G5: =G152 -> 112.0875 | H5: =H152 -> 70 | I5: =I152 -> 12 | J5: =J152 -> 13 | K5: =K152 -> 6 | ... AA5: =AA152 -> 22.576459 | AC5: WC
A6: Receivables | D6: =D155 -> 806 | E6: =E155 -> 991 | F6: =F155 -> 888 | G6: =G155 -> 904.85182 | H6: =H155 -> 974 | I6: =I155 -> 1036 | J6: =J155 -> 1218 | K6: =K155 -> 1582 | ... AA6: =AA155 -> 2991.3909 | AC6: WC
A7: Short term investments | D7: =D176 -> 0 | E7: =E176 -> 0 | F7: =F176 -> 0 | G7: =G176 -> 0 | H7: =H176 -> 0 | I7: =I176 -> 0 | J7: =J176 -> 0 | K7: =K176 -> 0 | ... R7: =R176 -> 0
A8: Pre-payments and other receivables | D8: =D172 -> 0 | E8: =E172 -> 0 | F8: =F172 -> 0 | G8: =G172 -> 0 | H8: =H172 -> 0 | I8: =I172 -> 0 | J8: =J172 -> 291 | K8: =K172 -> 188 | ... R8: =R172 -> 0
A9: Other current assets | M9: 4 | N9: 1 | O9: 0 | P9: =O9 -> 0 | Q9: =2781-SUM(Q4:Q8) -> 9 | R9: =3041-SUM(R4:R8) -> 15 | S9: =2904-SUM(S4:S8) -> 8 | T9: =3181-SUM(T4:T8) -> 3 | U9: =T9 -> 3 | V9: =U9 -> 3 | W9: =V9 -> 3 | X9: =W9 -> 3 | Y9: =X9 -> 3 | Z9: =Y9 -> 3 | AA9: =Z9 -> 3 | AC9: SL
A10: Current assets | D10: =SUM(D4:D9) -> 2132 | E10: =SUM(E4:E9) -> 2103 | F10: =SUM(F4:F9) -> 1836 | G10: =SUM(G4:G9) -> 1704.9393 | H10: =SUM(H4:H9) -> 1852 | I10: =SUM(I4:I9) -> 2579 | J10: =SUM(J4:J9) -> 2818 | K10: =SUM(K4:K9) -> 2458 | ... AA10: =SUM(AA4:AA9) -> 3561.1789
A12: Net PP&E | D12: =D95 -> 4555 | E12: =E95 -> 5007 | F12: =F95 -> 4971 | G12: =G95 -> 4849 | H12: =H95 -> 4038 | I12: =I95 -> 4008 | J12: =J95 -> 4227 | K12: =K95 -> 4502 | ... AA12: =AA95 -> 3434.9556 | AC12: x
A13: Goodwill
A14: Intangibles | D14: =D107 -> 11019 | E14: =E107 -> 11019 | F14: =F107 -> 11060 | G14: =G107 -> 10810 | H14: =H107 -> 11167 | I14: =I107 -> 11176 | J14: =J107 -> 11267 | K14: =K107 -> 11297 | ... AA14: =AA107 -> 9926.2012 | AC14: x
A15: RoU assets | O15: 1767 | P15: 1854 | Q15: 1887 | R15: 1826 | S15: 1794 | T15: 1816 | U15: =T15 -> 1816 | V15: =U15 -> 1816 | W15: =V15 -> 1816 | X15: =W15 -> 1816 | Y15: =X15 -> 1816 | Z15: =Y15 -> 1816 | AA15: =Z15 -> 1816 | AC15: SL
A16: Other current assets | D16: =D179 -> 6 | E16: =E179 -> 0 | F16: =F179 -> 3 | G16: =G179 -> 3 | H16: =H179 -> 145 | I16: =I179 -> 245 | J16: =J179 -> 617 | K16: =K179 -> 1341 | ... AA16: =AA179 -> 1558 | AC16: SL
A17: Deferred Expenses | D17: =D182 -> 86 | E17: =E182 -> 96 | F17: =F182 -> 121 | G17: =G182 -> 121 | H17: =H182 -> 128 | I17: =I182 -> 102 | J17: =J182 -> 55 | K17: =K182 -> 45 | ... R17: =R182 -> 0
A18: Non-current assets | D18: =SUM(D12:D17) -> 15666 | E18: =SUM(E12:E17) -> 16122 | F18: =SUM(F12:F17) -> 16155 | G18: =SUM(G12:G17) -> 15783 | H18: =SUM(H12:H17) -> 15478 | I18: =SUM(I12:I17) -> 15531 | J18: =SUM(J12:J17) -> 16166 | K18: =SUM(K12:K17) -> 17185 | ... AA18: =SUM(AA12:AA17) -> 16735.157
A20: Total assets | D20: =D18+D10 -> 17798 | E20: =E18+E10 -> 18225 | F20: =F18+F10 -> 17991 | G20: =G18+G10 -> 17487.939 | H20: =H18+H10 -> 17330 | I20: =I18+I10 -> 18110 | J20: =J18+J10 -> 18984 | K20: =K18+K10 -> 19643 | ... AA20: =AA18+AA10 -> 20296.336
A22: Trade payables | D22: =D159 -> 3258 | E22: =E159 -> 3298 | F22: =F159 -> 2922 | G22: =G159 -> 2977.4516 | H22: =H159 -> 2751 | I22: =I159 -> 3303 | J22: =J159 -> 3467 | K22: =K159 -> 3633 | ... AA22: =AA159 -> 4151.3567 | AC22: WC
A23: Other payables | D23: =D185 -> 0 | E23: =E185 -> 12 | F23: =F185 -> 0 | G23: =G185 -> 0 | H23: =H185 -> 0 | I23: =I185 -> 0 | J23: =J185 -> 320 | K23: =K185 -> 263 | ... AA23: =AA185 -> 88 | AC23: SL
A24: Related Party balances | D24: =D165 -> 0 | E24: =E165 -> 0 | F24: =F165 -> 0 | G24: =G165 -> 0 | H24: =H165 -> 0 | I24: =I165 -> 0 | J24: =J165 -> 29 | K24: =K165 -> 0 | ... AA24: =AA165 -> 79.611724 | AC24: WC
A25: Short-term bank loans | D25: =D138 -> 53 | E25: =E138 -> 13 | F25: =F138 -> 1464 | G25: =G138 -> 1912.8658 | H25: =H138 -> 910 | I25: =I138 -> 880 | J25: =J138 -> 1077 | K25: =K138 -> 1101 | ... AA25: =AA138 -> 1886 | AC25: SL
A26: Provisions | K26: =J26 -> 0 | L26: =K26 -> 0 | M26: =L26 -> 0 | N26: =N162 -> 127 | O26: =O162 -> 130 | P26: =P162 -> 137 | Q26: =Q162 -> 144 | R26: =R162 -> 160 | S26: =S162 -> 178 | T26: =T162 -> 215 | U26: =U162 -> 221.27894 | ... AA26: =AA162 -> 255.47046 | AC26: WC
A27: Current liabilites | D27: =SUM(D22:D26) -> 3311 | E27: =SUM(E22:E26) -> 3323 | F27: =SUM(F22:F26) -> 4386 | G27: =SUM(G22:G26) -> 4890.3174 | H27: =SUM(H22:H26) -> 3661 | I27: =SUM(I22:I26) -> 4183 | J27: =SUM(J22:J26) -> 4893 | K27: =SUM(K22:K26) -> 4997 | ... AA27: =SUM(AA22:AA26) -> 6460.4389
A29: Long-term debt | D29: =D139 -> 5013 | E29: =E139 -> 5442 | F29: =F139 -> 4811 | G29: =G139 -> 4811 | H29: =H139 -> 6613 | I29: =I139 -> 8118 | J29: =J139 -> 8801 | K29: =K139 -> 8763 | ... AA29: =AA139 -> 3463.389
A30: Other Long-term creditors | D30: =D188 -> 0 | E30: =E188 -> 693 | F30: =F188 -> 0 | G30: =G188 -> 0 | H30: =H188 -> 0 | I30: =I188 -> 0 | J30: =J188 -> 0 | K30: =K188 -> 0 | L30: =L188 -> 0 | M30: =312+168 -> 480 | N30: =311+278+6 -> 595 | O30: =326+188+17+382 -> 913 | P30: =335+145+908 -> 1388 | Q30: =12231-Q29 -> 2649 | R30: =11615-R29 -> 2700 | S30: =10816-S29 -> 2720 | T30: =9795-T29 -> 2701 | U30: =T30 -> 2701 | V30: =U30 -> 2701 | W30: =V30 -> 2701 | X30: =W30 -> 2701 | Y30: =X30 -> 2701 | Z30: =Y30 -> 2701 | AA30: =Z30 -> 2701 | AC30: SL
A31: Deferred income | D31: 529 | E31: 100 | F31: 706 | G31: 706 | H31: 1040 | I31: 1070 | J31: 1070 | K31: =164+418+580 -> 1162 | L31: =170+227+437 -> 834 | M31: 196 | N31: 221 | O31: 0 | P31: 0 | Q31: 0
A32: Total Liabilities | D32: =SUM(D27:D31) -> 8853 | E32: =SUM(E27:E31) -> 9558 | F32: =SUM(F27:F31) -> 9903 | G32: =SUM(G27:G31) -> 10407.317 | H32: =SUM(H27:H31) -> 11314 | I32: =SUM(I27:I31) -> 13371 | J32: =SUM(J27:J31) -> 14764 | K32: =SUM(K27:K31) -> 14922 | ... AA32: =SUM(AA27:AA31) -> 12624.828
A33: Minority Interests | D33: =D205 -> 0 | E33: =E205 -> 0 | F33: =F205 -> 4 | G33: =G205 -> 4 | H33: =H205 -> 15 | I33: =I205 -> 22 | J33: =J205 -> 30 | K33: =K205 -> 0 | ... R33: =R205 -> 0
A34: Share capital and premium | D34: =D212 -> 7500 | E34: =E212 -> 7500 | F34: =F212 -> 7500 | G34: =G212 -> 7500 | H34: =H212 -> 7500 | I34: =I212 -> 7500 | J34: =J212 -> 7500 | K34: =K212 -> 7500 | L34: =L212 -> 7800 | M34: 2509 | N34: 2532 | O34: 2547 | P34: =P212 -> 2564 | Q34: =Q212 -> 2585 | R34: =R212 -> 2593 | S34: =S212 -> 2597 | T34: =T212 -> 2603 | U34: =U212 -> 2603 | V34: =V212 -> 2603 | W34: =W212 -> 2603 | ... AA34: =AA212 -> 2603 | AC34: SL
A35: Other Reserves | D35: =D217 -> 0
A36: Retained Earnings | D36: =D221 -> 1445 | E36: =E221 -> 1167 | F36: =F221 -> 584 | G36: =G221 -> -423 | H36: =H221 -> -1499 | I36: =I221 -> -2783 | J36: =J221 -> -3310 | K36: =K221 -> -2779 | L36: =L221 -> -759 | M36: 4640 | N36: 4538 | O36: 4503 | P36: =P230 -> 4161 | Q36: =Q230 -> 3786 | R36: =R230 -> 3151 | S36: =S230 -> 3309 | T36: =T230 -> 3544 | U36: =U230 -> 3723.4428 | V36: =V230 -> 3915.9 | W36: =W230 -> 4119.968 | ... AA36: =AA230 -> 5068.9902 | AC36: x
A37: Total Equity | D37: =SUM(D33:D36) -> 8945 | E37: =SUM(E33:E36) -> 8667 | F37: =SUM(F33:F36) -> 8088 | G37: =SUM(G33:G36) -> 7081 | H37: =SUM(H33:H36) -> 6016 | I37: =SUM(I33:I36) -> 4739 | J37: =SUM(J33:J36) -> 4220 | K37: =SUM(K33:K36) -> 4721 | ... AA37: =SUM(AA33:AA36) -> 7671.9902
A39: Total liabilities and book equity | D39: =D37+D32 -> 17798 | E39: =E37+E32 -> 18225 | F39: =F37+F32 -> 17991 | G39: =G37+G32 -> 17488.317 | H39: =H37+H32 -> 17330 | I39: =I37+I32 -> 18110 | J39: =J37+J32 -> 18984 | K39: =K37+K32 -> 19643 | ... AA39: =AA37+AA32 -> 20296.818
A40: Check | D40: =D20-D39 -> 0 | E40: =E20-E39 -> 0 | F40: =F20-F39 -> 0 | G40: =G20-G39 -> -0.37806818 | H40: =H20-H39 -> 0 | I40: =I20-I39 -> 0 | J40: =J20-J39 -> 0 | K40: =K20-K39 -> 0 | ... AA40: =AA20-AA39 -> -0.48240211
L41: =L40-K40 -> 0.75 | M41: =M40-L40 -> -0.511 | N41: =N40-M40 -> -0.239 | O41: =O40-N40 -> 0 | P41: =P40-O40 -> 0 | Q41: =Q40-P40 -> 0 | R41: =R40-Q40 -> 0 | S41: =S40-R40 -> 0 | ... AA41: =AA40-Z40 -> -0.17699545
A43: Net debt/(cash) | B43: =B29+B25-B4 -> 0 | C43: =C29+C25-C4 -> 0 | D43: =D29+D25-D4 -> 3874 | E43: =E29+E25-E4 -> 4557 | F43: =F29+F25-F4 -> 5437 | G43: =G29+G25-G4 -> 6035.8658 | H43: =H29+H25-H4 -> 6715 | I43: =I29+I25-I4 -> 7467 | ... AA43: =AA29+AA25-AA4 -> 4805.1775
A44: Change in net debt | C44: =C43-B43 -> 0 | D44: =D43-C43 -> 3874 | E44: =E43-D43 -> 683 | F44: =F43-E43 -> 880 | G44: =G43-F43 -> 598.8658 | H44: =H43-G43 -> 679.1342 | I44: =I43-H43 -> 752 | J44: =J43-I43 -> 1115 | ... AA44: =AA43-Z43 -> -160.85033
A46: EBIT | B46: ='Income Statement'!B471 -> 2696 | C46: ='Income Statement'!G471 -> 3210 | D46: ='Income Statement'!L471 -> 3055 | E46: ='Income Statement'!Q471 -> 3343 | F46: ='Income Statement'!V471 -> 3232 | G46: ='Income Statement'!AA471 -> 2997 | H46: ='Income Statement'!AF471 -> 3156 | I46: ='Income Statement'!AK471 -> 2685.3305 | J46: ='Income Statement'!AP471 -> 3156 | K46: ='Income Statement'!AU471 -> 3109 | L46: ='Income Statement'!AZ471 -> 2775 | M46: ='Income Statement'!BE471 -> 2685 | N46: ='Income Statement'!BJ471 -> 2512 | O46: ='Income Statement'!BO471 -> 2284 | P46: ='Income Statement'!BT471 -> 2082 | Q46: ='Income Statement'!BY471 -> 2209 | R46: ='Income Statement'!CD471 -> 1890 | S46: ='Income Statement'!CI471 -> 2324 | T46: ='Income Statement'!CJ471 -> 611 | U46: ='Income Statement'!CQ471 -> 2808.9733 | V46: ='Income Statement'!CR471 -> 2936.5606 | W46: ='Income Statement'!CS471 -> 3056.385 | X46: ='Income Statement'!CT471 -> 3189.1619 | Y46: ='Income Statement'!CU471 -> 3336.7783 | Z46: ='Income Statement'!CV471 -> 3476.2521 | AA46: ='Income Statement'!CW471 -> 3647.3441
A47: (-) Adjusted taxes | B47: =-0.25*B46 -> -674 | C47: =-0.25*C46 -> -802.5 | D47: =-0.25*D46 -> -763.75 | E47: =-0.25*E46 -> -835.75 | F47: =-0.25*F46 -> -808 | G47: =-0.25*G46 -> -749.25 | H47: =-0.25*H46 -> -789 | I47: =-0.25*I46 -> -671.33263 | ... AA47: =-0.25*AA46 -> -911.83602
...

Sheet Analysis
B2: Inputs
B3: Recent quarter month end | C3: 45838 | Z3: Do not delete
B4: =DCF!$C$34 -> 5.7602387 | AB4: YTD analysis | AT4: Current | BD4: Prior | BK4: % Variance | BS4: Consensus | BZ4: Vs Consensus
C5: =IF(MONTH(C$6)=3,"Q1"&" "&RIGHT(YEAR(C$6),2),IF(MONTH(C$6)=6,"Q2"&" "&RIGHT(YEAR(C$6),2),IF(MONTH(C$6)=9,"Q3"&" "&RIGHT(YEAR(C$6),2),IF(MONTH(C$6)=12,"Q4"&" "&RIGHT(YEAR(C$6),2),"nm")))) -> Q1 20 | D5: =IF(MONTH(D$6)=3,"Q1"&" "&RIGHT(YEAR(D$6),2),IF(MONTH(D$6)=6,"Q2"&" "&RIGHT(YEAR(D$6),2),IF(MONTH(D$6)=9,"Q3"&" "&RIGHT(YEAR(D$6),2),IF(MONTH(D$6)=12,"Q4"&" "&RIGHT(YEAR(D$6),2),"nm")))) -> Q2 20 | E5: =IF(MONTH(E$6)=3,"Q1"&" "&RIGHT(YEAR(E$6),2),IF(MONTH(E$6)=6,"Q2"&" "&RIGHT(YEAR(E$6),2),IF(MONTH(E$6)=9,"Q3"&" "&RIGHT(YEAR(E$6),2),IF(MONTH(E$6)=12,"Q4"&" "&RIGHT(YEAR(E$6),2),"nm")))) -> Q3 20 | F5: =IF(MONTH(F$6)=3,"Q1"&" "&RIGHT(YEAR(F$6),2),IF(MONTH(F$6)=6,"Q2"&" "&RIGHT(YEAR(F$6),2),IF(MONTH(F$6)=9,"Q3"&" "&RIGHT(YEAR(F$6),2),IF(MONTH(F$6)=12,"Q4"&" "&RIGHT(YEAR(F$6),2),"nm")))) -> Q4 20 | G5: =IF(MONTH(G$6)=3,"Q1"&" "&RIGHT(YEAR(G$6),2),IF(MONTH(G$6)=6,"Q2"&" "&RIGHT(YEAR(G$6),2),IF(MONTH(G$6)=9,"Q3"&" "&RIGHT(YEAR(G$6),2),IF(MONTH(G$6)=12,"Q4"&" "&RIGHT(YEAR(G$6),2),"nm")))) -> Q1 21 | H5: =IF(MONTH(H$6)=3,"Q1"&" "&RIGHT(YEAR(H$6),2),IF(MONTH(H$6)=6,"Q2"&" "&RIGHT(YEAR(H$6),2),IF(MONTH(H$6)=9,"Q3"&" "&RIGHT(YEAR(H$6),2),IF(MONTH(H$6)=12,"Q4"&" "&RIGHT(YEAR(H$6),2),"nm")))) -> Q2 21 | I5: =IF(MONTH(I$6)=3,"Q1"&" "&RIGHT(YEAR(I$6),2),IF(MONTH(I$6)=6,"Q2"&" "&RIGHT(YEAR(I$6),2),IF(MONTH(I$6)=9,"Q3"&" "&RIGHT(YEAR(I$6),2),IF(MONTH(I$6)=12,"Q4"&" "&RIGHT(YEAR(I$6),2),"nm")))) -> Q3 21 | J5: =IF(MONTH(J$6)=3,"Q1"&" "&RIGHT(YEAR(J$6),2),IF(MONTH(J$6)=6,"Q2"&" "&RIGHT(YEAR(J$6),2),IF(MONTH(J$6)=9,"Q3"&" "&RIGHT(YEAR(J$6),2),IF(MONTH(J$6)=12,"Q4"&" "&RIGHT(YEAR(J$6),2),"nm")))) -> Q4 21 | ... X5: =IF(MONTH(X$6)=3,"Q1"&" "&RIGHT(YEAR(X$6),2),IF(MONTH(X$6)=6,"Q2"&" "&RIGHT(YEAR(X$6),2),IF(MONTH(X$6)=9,"Q3"&" "&RIGHT(YEAR(X$6),2),IF(MONTH(X$6)=12,"Q4"&" "&RIGHT(YEAR(X$6),2),"nm")))) -> Q2 25 | AB5: YTD-1 | AC5: YTD | AD5: % YoY | AF5: Remainder-1 | AG5: Remainder | AH5: Implied | AJ5: NSR | AO5: 2020 | AP5: =AO5+1 -> 2021 | AQ5: =AP5+1 -> 2022 | AR5: =AQ5+1 -> 2023 | AS5: =AR5+1 -> 2024 | AT5: =AS5+1 -> 2025 | AU5: =AT5+1 -> 2026 | AV5: =AU5+1 -> 2027 | AW5: =AV5+1 -> 2028 | ... AY5: =AX5+1 -> 2030 | BA5: CAGR | BB5: CAGR | BD5: =AT5 -> 2025 | BE5: =BD5+1 -> 2026 | BF5: =BE5+1 -> 2027 | BG5: =BF5+1 -> 2028 | BH5: =BG5+1 -> 2029 | BI5: =BH5+1 -> 2030 | BK5: =BD5 -> 2025 | BL5: =BE5 -> 2026 | BM5: =BF5 -> 2027 | BN5: =BG5 -> 2028 | BO5: =BH5 -> 2029 | BP5: =BI5 -> 2030 | BR5: =AS5 -> 2024 | BS5: =AT5 -> 2025 | BT5: =AU5 -> 2026 | BU5: =AV5 -> 2027 | BV5: =AW5 -> 2028 | BW5: =AX5 -> 2029 | BX5: =AY5 -> 2030 | BZ5: =BD5 -> 2025 | CA5: =BE5 -> 2026 | CB5: =BF5 -> 2027 | CC5: =BG5 -> 2028 | CD5: =BH5 -> 2029 | CE5: =BI5 -> 2030
C6: 43921 | D6: =EOMONTH(C6,3) -> 44012 | E6: =EOMONTH(D6,3) -> 44104 | F6: =EOMONTH(E6,3) -> 44196 | G6: =EOMONTH(F6,3) -> 44286 | H6: =EOMONTH(G6,3) -> 44377 | I6: =EOMONTH(H6,3) -> 44469 | J6: =EOMONTH(I6,3) -> 44561 | K6: =EOMONTH(J6,3) -> 44651 | ... X6: =EOMONTH(W6,3) -> 45838 | AB6: =EOMONTH(AC6,-12) -> 45473 | AC6: =$C$3 -> 45838 | AH6: % YoY | AI6: =AJ6-1 -> 2024 | AJ6: =YEAR($C$3) -> 2025 | BA6: 24-27 | BB6: 24-30
B8: Postpaid | C8: ='Income Statement'!BK408 -> 0 | D8: ='Income Statement'!BL408 -> 0 | E8: ='Income Statement'!BM408 -> 0 | F8: ='Income Statement'!BN408 -> 0 | G8: ='Income Statement'!BP408 -> 748 | H8: ='Income Statement'!BQ408 -> 766 | I8: ='Income Statement'!BR408 -> 783 | J8: ='Income Statement'!BS408 -> 766 | K8: ='Income Statement'!BU408 -> 785 | L8: ='Income Statement'!BV408 -> 810 | M8: ='Income Statement'!BW408 -> 830 | N8: ='Income Statement'!BX408 -> 850 | O8: ='Income Statement'!BZ408 -> 864 | P8: ='Income Statement'!CA408 -> 871 | Q8: ='Income Statement'!CB408 -> 882 | R8: ='Income Statement'!CC408 -> 903 | S8: ='Income Statement'!CE408 -> 911 | T8: ='Income Statement'!CF408 -> 916 | U8: ='Income Statement'!CG408 -> 925 | V8: ='Income Statement'!CH408 -> 948 | W8: ='Income Statement'!CJ408 -> 924 | X8: ='Income Statement'!CK408 -> 933 | AB8: =SUMIFS($C8:Z8,$C$6:Z$6,"<="&AB$6,$C$6:Z$6,">"&DATE(YEAR($AB$6)-1,12,31)) -> 1827 | AC8: =SUMIFS($C8:Z8,$C$6:Z$6,"<="&AC$6,$C$6:Z$6,">"&DATE(YEAR($AC$6)-1,12,31)) -> 1857 | AD8: =AC8/AB8-1 -> 0.016420361 | AF8: =AI8-AB8 -> 1873 | AG8: =AJ8-AC8 -> 1928 | AH8: =AG8/AF8-1 -> 0.029364656 | AI8: =SUMIFS($AO8:$AZ8,$AO$5:$AZ$5,AI$6) -> 3700 | AJ8: =SUMIFS($AO8:$AZ8,$AO$5:$AZ$5,AJ$6) -> 3785 | AP8: ='Income Statement'!BT408 -> 3063 | AQ8: ='Income Statement'!BY408 -> 3275 | AR8: ='Income Statement'!CD408 -> 3520 | AS8: ='Income Statement'!CI408 -> 3700 | AT8: ='Income Statement'!CN408 -> 3785 | AU8: ='Income Statement'!CQ408 -> 3901.2032 | AV8: ='Income Statement'!CR408 -> 3963.3334 | AW8: ='Income Statement'!CS408 -> 4055.66 | AX8: ='Income Statement'!CT408 -> 4147.1955 | AY8: ='Income Statement'!CU408 -> 4238.1031 | BA8: =(AV8/AS8)^(1/3)-1 -> 0.023182163 | BB8: =(AY8/AS8)^(1/6)-1 -> 0.022888507 | BD8: 3787.9111 | BE8: 3842.5044 | BF8: 3915.6604 | BG8: 4007.0655 | BH8: 4097.7714 | BI8: 4187.9338 | BK8: =IFERROR(AT8/BD8-1,"") -> -0.0007685207 | BL8: =IFERROR(AU8/BE8-1,"") -> 0.015276184 | BM8: =IFERROR(AV8/BF8-1,"") -> 0.012174961 | BN8: =IFERROR(AW8/BG8-1,"") -> 0.012127194 | BO8: =IFERROR(AX8/BH8-1,"") -> 0.0120612 | BP8: =IFERROR(AY8/BI8-1,"") -> 0.011979486
B9: % YoY | K9: =K8/G8-1 -> 0.049465241 | L9: =L8/H8-1 -> 0.057441253 | M9: =M8/I8-1 -> 0.060025543 | N9: =N8/J8-1 -> 0.10966057 | O9: =O8/K8-1 -> 0.10063694 | P9: =P8/L8-1 -> 0.075308642 | Q9: =Q8/M8-1 -> 0.062650602 | R9: =R8/N8-1 -> 0.062352941 | ... X9: =X8/T8-1 -> 0.018558952 | AQ9: =IFERROR(AQ8/AP8-1,"") -> 0.06921319 | AR9: =IFERROR(AR8/AQ8-1,"") -> 0.07480916 | AS9: =IFERROR(AS8/AR8-1,"") -> 0.051136364 | AT9: =IFERROR(AT8/AS8-1,"") -> 0.022972973 | AU9: =IFERROR(AU8/AT8-1,"") -> 0.030700986 | AV9: =IFERROR(AV8/AU8-1,"") -> 0.015925897 | AW9: =IFERROR(AW8/AV8-1,"") -> 0.023295193 | AX9: =IFERROR(AX8/AW8-1,"") -> 0.022569811 | AY9: =IFERROR(AY8/AX8-1,"") -> 0.021920262 | BD9: 0.023759754 | BE9: 0.014412518 | BF9: 0.019038613 | BG9: 0.023343487 | BH9: 0.02263649 | BI9: 0.022002778
